BEGIN:VCALENDAR
VERSION:2.0
PRODID:-//Tail of The Dragon - ECPv6.15.16//NONSGML v1.0//EN
CALSCALE:GREGORIAN
METHOD:PUBLISH
X-WR-CALNAME:Tail of The Dragon
X-ORIGINAL-URL:https://tailofthedragon.com
X-WR-CALDESC:Events for Tail of The Dragon
REFRESH-INTERVAL;VALUE=DURATION:PT1H
X-Robots-Tag:noindex
X-PUBLISHED-TTL:PT1H
BEGIN:VTIMEZONE
TZID:America/New_York
BEGIN:DAYLIGHT
TZOFFSETFROM:-0500
TZOFFSETTO:-0400
TZNAME:EDT
DTSTART:20250309T070000
END:DAYLIGHT
BEGIN:STANDARD
TZOFFSETFROM:-0400
TZOFFSETTO:-0500
TZNAME:EST
DTSTART:20251102T060000
END:STANDARD
BEGIN:DAYLIGHT
TZOFFSETFROM:-0500
TZOFFSETTO:-0400
TZNAME:EDT
DTSTART:20260308T070000
END:DAYLIGHT
BEGIN:STANDARD
TZOFFSETFROM:-0400
TZOFFSETTO:-0500
TZNAME:EST
DTSTART:20261101T060000
END:STANDARD
BEGIN:DAYLIGHT
TZOFFSETFROM:-0500
TZOFFSETTO:-0400
TZNAME:EDT
DTSTART:20270314T070000
END:DAYLIGHT
BEGIN:STANDARD
TZOFFSETFROM:-0400
TZOFFSETTO:-0500
TZNAME:EST
DTSTART:20271107T060000
END:STANDARD
END:VTIMEZONE
BEGIN:VEVENT
DTSTART;VALUE=DATE:20260801
DTEND;VALUE=DATE:20260803
DTSTAMP:20260421T160118
CREATED:20260325T172056Z
LAST-MODIFIED:20260325T172056Z
UID:10000140-1785542400-1785715199@tailofthedragon.com
SUMMARY:Mountain Peaks Rally (Women's Driving Event)
DESCRIPTION:Click Here: Facebook Event 
URL:https://tailofthedragon.com/event2025/mountain-peaks-rally-womens-driving-event/
END:VEVENT
BEGIN:VEVENT
DTSTART;VALUE=DATE:20260806
DTEND;VALUE=DATE:20260810
DTSTAMP:20260421T160118
CREATED:20260130T154634Z
LAST-MODIFIED:20260130T154634Z
UID:10000123-1785974400-1786319999@tailofthedragon.com
SUMMARY:Miatas at the Gap
DESCRIPTION:Click Here: Event Website
URL:https://tailofthedragon.com/event2025/miatas-at-the-gap-3/
END:VEVENT
BEGIN:VEVENT
DTSTART;VALUE=DATE:20260817
DTEND;VALUE=DATE:20260824
DTSTAMP:20260421T160118
CREATED:20260130T154754Z
LAST-MODIFIED:20260130T154754Z
UID:10000124-1786924800-1787529599@tailofthedragon.com
SUMMARY:Equality Garage
DESCRIPTION:Click Here: Event Website
URL:https://tailofthedragon.com/event2025/equality-garage/
END:VEVENT
BEGIN:VEVENT
DTSTART;VALUE=DATE:20260820
DTEND;VALUE=DATE:20260823
DTSTAMP:20260421T160118
CREATED:20260130T154943Z
LAST-MODIFIED:20260130T154943Z
UID:10000125-1787184000-1787443199@tailofthedragon.com
SUMMARY:Jeep Invasion
DESCRIPTION:Click Here: Facebook Group
URL:https://tailofthedragon.com/event2025/jeep-invasion/
END:VEVENT
BEGIN:VEVENT
DTSTART;VALUE=DATE:20260911
DTEND;VALUE=DATE:20260914
DTSTAMP:20260421T160118
CREATED:20260130T155310Z
LAST-MODIFIED:20260130T155310Z
UID:10000126-1789084800-1789343999@tailofthedragon.com
SUMMARY:Vettes versus the Dragon
DESCRIPTION:Click Here: Facebook Event 
URL:https://tailofthedragon.com/event2025/vettes-versus-the-dragon/
END:VEVENT
BEGIN:VEVENT
DTSTART;VALUE=DATE:20260925
DTEND;VALUE=DATE:20260928
DTSTAMP:20260421T160118
CREATED:20260130T155602Z
LAST-MODIFIED:20260130T155602Z
UID:10000127-1790294400-1790553599@tailofthedragon.com
SUMMARY:Furry Takeover
DESCRIPTION:Click Here: Event Website
URL:https://tailofthedragon.com/event2025/furry-takeover-3/
END:VEVENT
BEGIN:VEVENT
DTSTART;VALUE=DATE:20261002
DTEND;VALUE=DATE:20261005
DTSTAMP:20260421T160118
CREATED:20260130T155900Z
LAST-MODIFIED:20260130T155900Z
UID:10000128-1790899200-1791158399@tailofthedragon.com
SUMMARY:812 WheelCrew Floods the Dragon
DESCRIPTION:Click Here: Facebook Event
URL:https://tailofthedragon.com/event2025/812-wheelcrew-floods-the-dragon/
END:VEVENT
BEGIN:VEVENT
DTSTART;VALUE=DATE:20261008
DTEND;VALUE=DATE:20261012
DTSTAMP:20260421T160118
CREATED:20260130T160257Z
LAST-MODIFIED:20260130T160257Z
UID:10000129-1791417600-1791763199@tailofthedragon.com
SUMMARY:GTR vs Dragon
DESCRIPTION:Click Here: Facebook Group
URL:https://tailofthedragon.com/event2025/gtr-vs-dragon/
END:VEVENT
BEGIN:VEVENT
DTSTART;VALUE=DATE:20261009
DTEND;VALUE=DATE:20261012
DTSTAMP:20260421T160118
CREATED:20260130T160409Z
LAST-MODIFIED:20260130T160409Z
UID:10000130-1791504000-1791763199@tailofthedragon.com
SUMMARY:Classic Hondas on the Dragon 11
DESCRIPTION:Click Here: Facebook Event
URL:https://tailofthedragon.com/event2025/classic-hondas-on-the-dragon-11/
END:VEVENT
BEGIN:VEVENT
DTSTART;VALUE=DATE:20261016
DTEND;VALUE=DATE:20261019
DTSTAMP:20260421T160118
CREATED:20260325T172300Z
LAST-MODIFIED:20260325T172300Z
UID:10000141-1792108800-1792367999@tailofthedragon.com
SUMMARY:14th Annual Ecotec/HHRDivision Dragon Meet
DESCRIPTION:Click Here: Facebook Event 
URL:https://tailofthedragon.com/event2025/14th-annual-ecotec-hhrdivision-dragon-meet/
END:VEVENT
BEGIN:VEVENT
DTSTART;VALUE=DATE:20261017
DTEND;VALUE=DATE:20261018
DTSTAMP:20260421T160118
CREATED:20260130T160525Z
LAST-MODIFIED:20260130T160525Z
UID:10000131-1792195200-1792281599@tailofthedragon.com
SUMMARY:Attack the Dragon - 19th Annual Event
DESCRIPTION:Click Here: Facebook Event 
URL:https://tailofthedragon.com/event2025/attack-the-dragon-19th-annual-event/
END:VEVENT
BEGIN:VEVENT
DTSTART;VALUE=DATE:20261022
DTEND;VALUE=DATE:20261026
DTSTAMP:20260421T160118
CREATED:20260130T160630Z
LAST-MODIFIED:20260130T160630Z
UID:10000132-1792627200-1792972799@tailofthedragon.com
SUMMARY:Mazdas at the Dragon
DESCRIPTION:Click Here: Facebook Event 
URL:https://tailofthedragon.com/event2025/mazdas-at-the-dragon-2/
END:VEVENT
BEGIN:VEVENT
DTSTART;VALUE=DATE:20261023
DTEND;VALUE=DATE:20261025
DTSTAMP:20260421T160118
CREATED:20260130T160941Z
LAST-MODIFIED:20260130T160941Z
UID:10000134-1792713600-1792886399@tailofthedragon.com
SUMMARY:Smoky Mountain Overland Invasion
DESCRIPTION:Click Here: Facebook Group
URL:https://tailofthedragon.com/event2025/smoky-mountain-overland-invasion/
END:VEVENT
BEGIN:VEVENT
DTSTART;VALUE=DATE:20261023
DTEND;VALUE=DATE:20261026
DTSTAMP:20260421T160118
CREATED:20260130T160728Z
LAST-MODIFIED:20260130T160728Z
UID:10000133-1792713600-1792972799@tailofthedragon.com
SUMMARY:Holden on to the Dragon
DESCRIPTION:Click Here: Facebook Event 
URL:https://tailofthedragon.com/event2025/holden-on-to-the-dragon/
END:VEVENT
END:VCALENDAR