BEGIN:VCALENDAR
VERSION:2.0
PRODID:-//Tail of The Dragon - ECPv6.15.16//NONSGML v1.0//EN
CALSCALE:GREGORIAN
METHOD:PUBLISH
X-WR-CALNAME:Tail of The Dragon
X-ORIGINAL-URL:https://tailofthedragon.com
X-WR-CALDESC:Events for Tail of The Dragon
REFRESH-INTERVAL;VALUE=DURATION:PT1H
X-Robots-Tag:noindex
X-PUBLISHED-TTL:PT1H
BEGIN:VTIMEZONE
TZID:America/New_York
BEGIN:DAYLIGHT
TZOFFSETFROM:-0500
TZOFFSETTO:-0400
TZNAME:EDT
DTSTART:20250309T070000
END:DAYLIGHT
BEGIN:STANDARD
TZOFFSETFROM:-0400
TZOFFSETTO:-0500
TZNAME:EST
DTSTART:20251102T060000
END:STANDARD
BEGIN:DAYLIGHT
TZOFFSETFROM:-0500
TZOFFSETTO:-0400
TZNAME:EDT
DTSTART:20260308T070000
END:DAYLIGHT
BEGIN:STANDARD
TZOFFSETFROM:-0400
TZOFFSETTO:-0500
TZNAME:EST
DTSTART:20261101T060000
END:STANDARD
BEGIN:DAYLIGHT
TZOFFSETFROM:-0500
TZOFFSETTO:-0400
TZNAME:EDT
DTSTART:20270314T070000
END:DAYLIGHT
BEGIN:STANDARD
TZOFFSETFROM:-0400
TZOFFSETTO:-0500
TZNAME:EST
DTSTART:20271107T060000
END:STANDARD
END:VTIMEZONE
BEGIN:VEVENT
DTSTART;VALUE=DATE:20260429
DTEND;VALUE=DATE:20260504
DTSTAMP:20260421T093640
CREATED:20260129T174611Z
LAST-MODIFIED:20260129T174611Z
UID:10000103-1777420800-1777852799@tailofthedragon.com
SUMMARY:Minis on the Dragon
DESCRIPTION:Click Here: Event Website 
URL:https://tailofthedragon.com/event2025/minis-on-the-dragon-2/
END:VEVENT
BEGIN:VEVENT
DTSTART;VALUE=DATE:20260430
DTEND;VALUE=DATE:20260504
DTSTAMP:20260421T093640
CREATED:20260129T174740Z
LAST-MODIFIED:20260129T174740Z
UID:10000104-1777507200-1777852799@tailofthedragon.com
SUMMARY:Tame the Dragon
DESCRIPTION:Click Here: Facebook Event
URL:https://tailofthedragon.com/event2025/tame-the-dragon-2/
END:VEVENT
BEGIN:VEVENT
DTSTART;VALUE=DATE:20260430
DTEND;VALUE=DATE:20260504
DTSTAMP:20260421T093640
CREATED:20260409T211316Z
LAST-MODIFIED:20260409T211316Z
UID:10000142-1777507200-1777852799@tailofthedragon.com
SUMMARY:Proteges at The Dragon Spring 2026
DESCRIPTION:CLICK HERE: Facebook Event 
URL:https://tailofthedragon.com/event2025/proteges-at-the-dragon-spring-2026/
END:VEVENT
BEGIN:VEVENT
DTSTART;VALUE=DATE:20260502
DTEND;VALUE=DATE:20260503
DTSTAMP:20260421T093640
CREATED:20260129T174848Z
LAST-MODIFIED:20260129T174848Z
UID:10000105-1777680000-1777766399@tailofthedragon.com
SUMMARY:Evo Day - Dragon Run
DESCRIPTION:Click Here: Facebook Event 
URL:https://tailofthedragon.com/event2025/evo-day-dragon-run/
END:VEVENT
BEGIN:VEVENT
DTSTART;VALUE=DATE:20260508
DTEND;VALUE=DATE:20260511
DTSTAMP:20260421T093640
CREATED:20260129T175007Z
LAST-MODIFIED:20260129T175007Z
UID:10000106-1778198400-1778457599@tailofthedragon.com
SUMMARY:Elements on the Dragon
DESCRIPTION:Click Here: Facebook Event 
URL:https://tailofthedragon.com/event2025/elements-on-the-dragon-2/
END:VEVENT
BEGIN:VEVENT
DTSTART;VALUE=DATE:20260509
DTEND;VALUE=DATE:20260510
DTSTAMP:20260421T093640
CREATED:20260129T180716Z
LAST-MODIFIED:20260130T153234Z
UID:10000107-1778284800-1778371199@tailofthedragon.com
SUMMARY:Evo Day at Tail of the Dragon
DESCRIPTION:Click Here: Facebook Event 
URL:https://tailofthedragon.com/event2025/evo-day-at-tail-of-the-dragon/
END:VEVENT
BEGIN:VEVENT
DTSTART;VALUE=DATE:20260515
DTEND;VALUE=DATE:20260518
DTSTAMP:20260421T093640
CREATED:20260129T181805Z
LAST-MODIFIED:20260129T181805Z
UID:10000108-1778803200-1779062399@tailofthedragon.com
SUMMARY:Jaguar F-Type Forever Rally
DESCRIPTION:Click Here: Event Website 
URL:https://tailofthedragon.com/event2025/jaguar-f-type-forever-rally/
END:VEVENT
BEGIN:VEVENT
DTSTART;VALUE=DATE:20260517
DTEND;VALUE=DATE:20260525
DTSTAMP:20260421T093640
CREATED:20260129T182022Z
LAST-MODIFIED:20260129T182022Z
UID:10000109-1778976000-1779667199@tailofthedragon.com
SUMMARY:27th Annual 2 Stroke Meet Up
DESCRIPTION:Click Here: Facebook Event 
URL:https://tailofthedragon.com/event2025/27th-annual-2-stroke-meet-up/
END:VEVENT
BEGIN:VEVENT
DTSTART;VALUE=DATE:20260522
DTEND;VALUE=DATE:20260525
DTSTAMP:20260421T093640
CREATED:20260129T182206Z
LAST-MODIFIED:20260129T182206Z
UID:10000110-1779408000-1779667199@tailofthedragon.com
SUMMARY:Lotus vs. the Dragon
DESCRIPTION:Click Here: Facebook Event 
URL:https://tailofthedragon.com/event2025/lotus-vs-the-dragon-2/
END:VEVENT
BEGIN:VEVENT
DTSTART;VALUE=DATE:20260522
DTEND;VALUE=DATE:20260525
DTSTAMP:20260421T093640
CREATED:20260310T143245Z
LAST-MODIFIED:20260310T143321Z
UID:10000136-1779408000-1779667199@tailofthedragon.com
SUMMARY:Spring Holden on to the Dragon
DESCRIPTION:Click Here: Facebook Event 
URL:https://tailofthedragon.com/event2025/spring-holden-on-the-dragon/
END:VEVENT
BEGIN:VEVENT
DTSTART;VALUE=DATE:20260523
DTEND;VALUE=DATE:20260531
DTSTAMP:20260421T093640
CREATED:20260129T182329Z
LAST-MODIFIED:20260129T182329Z
UID:10000111-1779494400-1780185599@tailofthedragon.com
SUMMARY:Electrics at the Dragon
DESCRIPTION:Click Here: Facebook Event
URL:https://tailofthedragon.com/event2025/electrics-at-the-dragon/
END:VEVENT
BEGIN:VEVENT
DTSTART;VALUE=DATE:20260529
DTEND;VALUE=DATE:20260531
DTSTAMP:20260421T093640
CREATED:20260129T182455Z
LAST-MODIFIED:20260129T182455Z
UID:10000112-1780012800-1780185599@tailofthedragon.com
SUMMARY:Buggin the Dragon 8
DESCRIPTION:Click Here: Facebook Event 
URL:https://tailofthedragon.com/event2025/buggin-the-dragon-8/
END:VEVENT
BEGIN:VEVENT
DTSTART;VALUE=DATE:20260530
DTEND;VALUE=DATE:20260531
DTSTAMP:20260421T093640
CREATED:20260129T182611Z
LAST-MODIFIED:20260129T182611Z
UID:10000113-1780099200-1780185599@tailofthedragon.com
SUMMARY:Dragon Rally LIII (53)
DESCRIPTION:Click Here: Facebook Event
URL:https://tailofthedragon.com/event2025/dragon-rally-liii-53/
END:VEVENT
END:VCALENDAR