BEGIN:VCALENDAR
VERSION:2.0
PRODID:-//Tail of The Dragon - ECPv6.15.16//NONSGML v1.0//EN
CALSCALE:GREGORIAN
METHOD:PUBLISH
X-WR-CALNAME:Tail of The Dragon
X-ORIGINAL-URL:https://tailofthedragon.com
X-WR-CALDESC:Events for Tail of The Dragon
REFRESH-INTERVAL;VALUE=DURATION:PT1H
X-Robots-Tag:noindex
X-PUBLISHED-TTL:PT1H
BEGIN:VTIMEZONE
TZID:America/New_York
BEGIN:DAYLIGHT
TZOFFSETFROM:-0500
TZOFFSETTO:-0400
TZNAME:EDT
DTSTART:20250309T070000
END:DAYLIGHT
BEGIN:STANDARD
TZOFFSETFROM:-0400
TZOFFSETTO:-0500
TZNAME:EST
DTSTART:20251102T060000
END:STANDARD
BEGIN:DAYLIGHT
TZOFFSETFROM:-0500
TZOFFSETTO:-0400
TZNAME:EDT
DTSTART:20260308T070000
END:DAYLIGHT
BEGIN:STANDARD
TZOFFSETFROM:-0400
TZOFFSETTO:-0500
TZNAME:EST
DTSTART:20261101T060000
END:STANDARD
BEGIN:DAYLIGHT
TZOFFSETFROM:-0500
TZOFFSETTO:-0400
TZNAME:EDT
DTSTART:20270314T070000
END:DAYLIGHT
BEGIN:STANDARD
TZOFFSETFROM:-0400
TZOFFSETTO:-0500
TZNAME:EST
DTSTART:20271107T060000
END:STANDARD
END:VTIMEZONE
BEGIN:VEVENT
DTSTART;VALUE=DATE:20260911
DTEND;VALUE=DATE:20260914
DTSTAMP:20260421T155859
CREATED:20260130T155310Z
LAST-MODIFIED:20260130T155310Z
UID:10000126-1789084800-1789343999@tailofthedragon.com
SUMMARY:Vettes versus the Dragon
DESCRIPTION:Click Here: Facebook Event 
URL:https://tailofthedragon.com/event2025/vettes-versus-the-dragon/
END:VEVENT
BEGIN:VEVENT
DTSTART;VALUE=DATE:20260925
DTEND;VALUE=DATE:20260928
DTSTAMP:20260421T155859
CREATED:20260130T155602Z
LAST-MODIFIED:20260130T155602Z
UID:10000127-1790294400-1790553599@tailofthedragon.com
SUMMARY:Furry Takeover
DESCRIPTION:Click Here: Event Website
URL:https://tailofthedragon.com/event2025/furry-takeover-3/
END:VEVENT
END:VCALENDAR